BEGIN:VCALENDAR
VERSION:2.0
PRODID:-//CLUB DE ATLETISMO LAS ARDILLAS DE EL ESCORIAL - ECPv5.5.0//NONSGML v1.0//EN
CALSCALE:GREGORIAN
METHOD:PUBLISH
X-WR-CALNAME:CLUB DE ATLETISMO LAS ARDILLAS DE EL ESCORIAL
X-ORIGINAL-URL:https://atletismoardillas.es
X-WR-CALDESC:Eventos para CLUB DE ATLETISMO LAS ARDILLAS DE EL ESCORIAL
BEGIN:VTIMEZONE
TZID:Europe/Madrid
BEGIN:DAYLIGHT
TZOFFSETFROM:+0100
TZOFFSETTO:+0200
TZNAME:CEST
DTSTART:20250330T010000
END:DAYLIGHT
BEGIN:STANDARD
TZOFFSETFROM:+0200
TZOFFSETTO:+0100
TZNAME:CET
DTSTART:20251026T010000
END:STANDARD
END:VTIMEZONE
BEGIN:VEVENT
DTSTART;TZID=Europe/Madrid:20250510T080000
DTEND;TZID=Europe/Madrid:20250511T140000
DTSTAMP:20260422T062654
CREATED:20250429T101345Z
LAST-MODIFIED:20250429T101345Z
UID:15036-1746864000-1746972000@atletismoardillas.es
SUMMARY:Jornada de Menores 42 Arganda del Rey - Reunión FAM
DESCRIPTION:Formulario \nReglamento Jornada de Menores 42 Arganda del Rey – Reunión FAM \nCategorías: Todas las categorías \nTransporte del Club: NO \nListado de inscritos
URL:https://atletismoardillas.es/eventos/jornada-de-menores-42-arganda-del-rey-reunion-fam/
LOCATION:Estadio Municipal de Arganda del Rey\, Av. de Valdearganda\, 12\, Arganda del Rey\, Madrid\, 28500
CATEGORIES:Control
ATTACH;FMTTYPE=image/png:https://atletismoardillas.es/wp-content/uploads/2020/02/ardillas-logo.png
END:VEVENT
BEGIN:VEVENT
DTSTART;TZID=Europe/Madrid:20250510T100000
DTEND;TZID=Europe/Madrid:20250511T180000
DTSTAMP:20260422T062654
CREATED:20250429T095024Z
LAST-MODIFIED:20250429T095024Z
UID:15027-1746871200-1746986400@atletismoardillas.es
SUMMARY:Reunión FAM - Vallehermoso
DESCRIPTION:Formulario \nReglamento Reunión FAM – Vallehermoso \nCategorías: Sub16 y superiores \nTransporte del Club: NO \nListado de inscritos
URL:https://atletismoardillas.es/eventos/reunion-fam-vallehermoso/
LOCATION:Madrid
CATEGORIES:Competición,Control
ATTACH;FMTTYPE=image/png:https://atletismoardillas.es/wp-content/uploads/2020/02/ardillas-logo.png
END:VEVENT
BEGIN:VEVENT
DTSTART;TZID=Europe/Madrid:20250510T163000
DTEND;TZID=Europe/Madrid:20250510T190000
DTSTAMP:20260422T062654
CREATED:20250429T102813Z
LAST-MODIFIED:20250429T102813Z
UID:15040-1746894600-1746903600@atletismoardillas.es
SUMMARY:Jornada de Menores 43 Leganés
DESCRIPTION:Formulario \nReglamento Jornada de Menores 43 Leganés \nCategorías: Sub8 a Sub18 \nTransporte del Club: NO \nListado de inscritos \n 
URL:https://atletismoardillas.es/eventos/jornada-de-menores-43-leganes-2/
LOCATION:Ciudad Deportiva Europa (Leganés)\, Av. de Alemania\, 2D\, Leganés\, Madrid\, 28916
CATEGORIES:Control
ATTACH;FMTTYPE=image/png:https://atletismoardillas.es/wp-content/uploads/2020/02/ardillas-logo.png
END:VEVENT
END:VCALENDAR