BEGIN:VCALENDAR
VERSION:2.0
PRODID:-//CLUB DE ATLETISMO LAS ARDILLAS DE EL ESCORIAL - ECPv5.5.0//NONSGML v1.0//EN
CALSCALE:GREGORIAN
METHOD:PUBLISH
X-WR-CALNAME:CLUB DE ATLETISMO LAS ARDILLAS DE EL ESCORIAL
X-ORIGINAL-URL:https://atletismoardillas.es
X-WR-CALDESC:Eventos para CLUB DE ATLETISMO LAS ARDILLAS DE EL ESCORIAL
BEGIN:VTIMEZONE
TZID:Europe/Madrid
BEGIN:DAYLIGHT
TZOFFSETFROM:+0100
TZOFFSETTO:+0200
TZNAME:CEST
DTSTART:20250330T010000
END:DAYLIGHT
BEGIN:STANDARD
TZOFFSETFROM:+0200
TZOFFSETTO:+0100
TZNAME:CET
DTSTART:20251026T010000
END:STANDARD
END:VTIMEZONE
BEGIN:VEVENT
DTSTART;TZID=Europe/Madrid:20250517T100000
DTEND;TZID=Europe/Madrid:20250518T130000
DTSTAMP:20260422T062626
CREATED:20250505T151419Z
LAST-MODIFIED:20250505T151419Z
UID:15059-1747476000-1747573200@atletismoardillas.es
SUMMARY:Campeonato de Madrid de Combinadas (Triatlones) Sub14 - Jornada de Menores 45 Coslada
DESCRIPTION:Formulario \nReglamento Campeonato de Madrid de Combinadas (Triatlones) Sub14 – Jornada de Menores 45 Coslada \nCategorías: Sub16 e inferiores \nTransporte del Club: NO \nListado de inscritos
URL:https://atletismoardillas.es/eventos/campeonato-de-madrid-de-combinadas-triatlones-sub14-jornada-de-menores-45-coslada/
LOCATION:Polideportivo Coslada\, C/ Perú 17\, Coslada\, Madrid\, 28823\, España
CATEGORIES:Competición,Control
ATTACH;FMTTYPE=image/png:https://atletismoardillas.es/wp-content/uploads/2020/02/ardillas-logo.png
END:VEVENT
BEGIN:VEVENT
DTSTART;TZID=Europe/Madrid:20250517T100000
DTEND;TZID=Europe/Madrid:20250517T130000
DTSTAMP:20260422T062626
CREATED:20250508T104017Z
LAST-MODIFIED:20250508T104017Z
UID:15088-1747476000-1747486800@atletismoardillas.es
SUMMARY:Jornada de Menores 46 Aluche
DESCRIPTION:Formulario \nReglamento Jornada de Menores 46 Aluche \nCategorías: Sub18 e inferiores \nTransporte del Club: NO \nListado de inscritos
URL:https://atletismoardillas.es/eventos/jornada-de-menores-46-aluche/
LOCATION:Pista Atletismo C.D.M. Aluche\, Dirección: Av. de Las Águilas\, 27\, 28044 Madrid\, Madrid\, Madrid\, 20844\, España
CATEGORIES:Control
ATTACH;FMTTYPE=image/png:https://atletismoardillas.es/wp-content/uploads/2020/02/ardillas-logo.png
END:VEVENT
BEGIN:VEVENT
DTSTART;TZID=Europe/Madrid:20250517T170000
DTEND;TZID=Europe/Madrid:20250517T200000
DTSTAMP:20260422T062626
CREATED:20250505T200423Z
LAST-MODIFIED:20250505T200423Z
UID:15068-1747501200-1747512000@atletismoardillas.es
SUMMARY:Reunión FAM San Isidro
DESCRIPTION:Formulario \nReglamento Reunión FAM San Isidro \nCategorías: Sub16 y superiores \nTransporte del Club: NO \nListado de inscritos
URL:https://atletismoardillas.es/eventos/reunion-fam-san-isidro/
LOCATION:Pista Atletismo C.D.M. Aluche\, Dirección: Av. de Las Águilas\, 27\, 28044 Madrid\, Madrid\, Madrid\, 20844\, España
CATEGORIES:Control
ATTACH;FMTTYPE=image/png:https://atletismoardillas.es/wp-content/uploads/2020/02/ardillas-logo.png
END:VEVENT
END:VCALENDAR