BEGIN:VCALENDAR
VERSION:2.0
PRODID:-//CLUB DE ATLETISMO LAS ARDILLAS DE EL ESCORIAL - ECPv5.5.0//NONSGML v1.0//EN
CALSCALE:GREGORIAN
METHOD:PUBLISH
X-WR-CALNAME:CLUB DE ATLETISMO LAS ARDILLAS DE EL ESCORIAL
X-ORIGINAL-URL:https://atletismoardillas.es
X-WR-CALDESC:Eventos para CLUB DE ATLETISMO LAS ARDILLAS DE EL ESCORIAL
BEGIN:VTIMEZONE
TZID:Europe/Madrid
BEGIN:DAYLIGHT
TZOFFSETFROM:+0100
TZOFFSETTO:+0200
TZNAME:CEST
DTSTART:20230326T010000
END:DAYLIGHT
BEGIN:STANDARD
TZOFFSETFROM:+0200
TZOFFSETTO:+0100
TZNAME:CET
DTSTART:20231029T010000
END:STANDARD
END:VTIMEZONE
BEGIN:VEVENT
DTSTART;TZID=Europe/Madrid:20230311T100000
DTEND;TZID=Europe/Madrid:20230311T133000
DTSTAMP:20260424T033249
CREATED:20230301T093633Z
LAST-MODIFIED:20230301T093633Z
UID:11902-1678528800-1678541400@atletismoardillas.es
SUMMARY:Campeonato de Madrid 10.000 Absoluto y 5.000 Sub18 y Sub20
DESCRIPTION:Formulario \nReglamento Cto Madrid 10.000 Absoluto y 5.000 Sub 18 y Sub 20 \nCategorías: Sub18 y Superiores \nTransporte del Club: NO \nListado de inscritos \n 
URL:https://atletismoardillas.es/eventos/campeonato-de-madrid-10-000-absoluto-y-5-000-sub18-y-sub20/
LOCATION:C.D.M. Margot Moles de Vicálvaro\, P.º Polideportivo\, 3\, 28032 Madrid\, Madrid\, Madrid\, 28032\, España
CATEGORIES:Competición
ATTACH;FMTTYPE=image/png:https://atletismoardillas.es/wp-content/uploads/2020/02/ardillas-logo.png
END:VEVENT
BEGIN:VEVENT
DTSTART;TZID=Europe/Madrid:20230311T103000
DTEND;TZID=Europe/Madrid:20230312T140000
DTSTAMP:20260424T033249
CREATED:20230301T090855Z
LAST-MODIFIED:20230301T090855Z
UID:11898-1678530600-1678629600@atletismoardillas.es
SUMMARY:Campeonato Madrid Sub 8\,10 y 12 PC
DESCRIPTION:Formulario \nReglamento Cto Madrid Sub 8\,10 y 12 PC \nCategorías: Sub 8\, 10 y 12 \nTransporte del Club: NO \nListado de inscritos
URL:https://atletismoardillas.es/eventos/campeonato-madrid-sub-810-y-12-pc/
LOCATION:Pista Cubierta Gallur\, Av. de Ángel Sanz Briz\, Madrid\, Madrid\, 28047\, España
CATEGORIES:Competición
ATTACH;FMTTYPE=image/png:https://atletismoardillas.es/wp-content/uploads/2020/02/ardillas-logo.png
END:VEVENT
BEGIN:VEVENT
DTSTART;TZID=Europe/Madrid:20230311T160000
DTEND;TZID=Europe/Madrid:20230312T183000
DTSTAMP:20260424T033249
CREATED:20230301T083836Z
LAST-MODIFIED:20230301T083836Z
UID:11889-1678550400-1678645800@atletismoardillas.es
SUMMARY:Campeonato de Madrid Sub16 PC
DESCRIPTION:Formulario \nReglamento Cto Madrid Sub 16 PC \nCategoría: Sub16 \nTransporte del Club: NO \nListado de inscritos
URL:https://atletismoardillas.es/eventos/campeonato-de-madrid-sub16-pc-2/
LOCATION:Pista Cubierta Gallur\, Av. de Ángel Sanz Briz\, Madrid\, Madrid\, 28047\, España
CATEGORIES:Competición
ATTACH;FMTTYPE=image/png:https://atletismoardillas.es/wp-content/uploads/2020/02/ardillas-logo.png
END:VEVENT
END:VCALENDAR