BEGIN:VCALENDAR
VERSION:2.0
PRODID:-//CLUB DE ATLETISMO LAS ARDILLAS DE EL ESCORIAL - ECPv5.5.0//NONSGML v1.0//EN
CALSCALE:GREGORIAN
METHOD:PUBLISH
X-WR-CALNAME:CLUB DE ATLETISMO LAS ARDILLAS DE EL ESCORIAL
X-ORIGINAL-URL:https://atletismoardillas.es
X-WR-CALDESC:Eventos para CLUB DE ATLETISMO LAS ARDILLAS DE EL ESCORIAL
BEGIN:VTIMEZONE
TZID:Europe/Madrid
BEGIN:DAYLIGHT
TZOFFSETFROM:+0100
TZOFFSETTO:+0200
TZNAME:CEST
DTSTART:20230326T010000
END:DAYLIGHT
BEGIN:STANDARD
TZOFFSETFROM:+0200
TZOFFSETTO:+0100
TZNAME:CET
DTSTART:20231029T010000
END:STANDARD
END:VTIMEZONE
BEGIN:VEVENT
DTSTART;TZID=Europe/Madrid:20230506T170000
DTEND;TZID=Europe/Madrid:20230507T203000
DTSTAMP:20260424T003815
CREATED:20230425T180146Z
LAST-MODIFIED:20230425T180204Z
UID:12087-1683392400-1683491400@atletismoardillas.es
SUMMARY:XXVII Trofeo Ciudad de Móstoles - Reunión Velocidad
DESCRIPTION:Formulario \nReglamento XXVII Trofeo Ciudad de Móstoles y Reunión de Velocidad Ciudad de Móstoles \nCategorías: Sub16 y Superiores \nTransporte del Club: NO \nListado de inscritos
URL:https://atletismoardillas.es/eventos/xxvii-trofeo-ciudad-de-mostoles-reunion-velocidad/
LOCATION:Pista de atletismo Móstoles\, Av. de Iker Casillas\, 80A\, Móstoles\, Madrid\, 28935\, España
CATEGORIES:Competición
ATTACH;FMTTYPE=image/png:https://atletismoardillas.es/wp-content/uploads/2020/02/ardillas-logo.png
END:VEVENT
END:VCALENDAR