BEGIN:VCALENDAR
VERSION:2.0
PRODID:-//CLUB DE ATLETISMO LAS ARDILLAS DE EL ESCORIAL - ECPv5.5.0//NONSGML v1.0//EN
CALSCALE:GREGORIAN
METHOD:PUBLISH
X-WR-CALNAME:CLUB DE ATLETISMO LAS ARDILLAS DE EL ESCORIAL
X-ORIGINAL-URL:https://atletismoardillas.es
X-WR-CALDESC:Eventos para CLUB DE ATLETISMO LAS ARDILLAS DE EL ESCORIAL
BEGIN:VTIMEZONE
TZID:Europe/Madrid
BEGIN:DAYLIGHT
TZOFFSETFROM:+0100
TZOFFSETTO:+0200
TZNAME:CEST
DTSTART:20230326T010000
END:DAYLIGHT
BEGIN:STANDARD
TZOFFSETFROM:+0200
TZOFFSETTO:+0100
TZNAME:CET
DTSTART:20231029T010000
END:STANDARD
END:VTIMEZONE
BEGIN:VEVENT
DTSTART;TZID=Europe/Madrid:20230527T100000
DTEND;TZID=Europe/Madrid:20230527T133000
DTSTAMP:20260424T003336
CREATED:20230517T092859Z
LAST-MODIFIED:20230517T104758Z
UID:12171-1685181600-1685194200@atletismoardillas.es
SUMMARY:Campeonato de Madrid de Marcha 1º Jornada
DESCRIPTION:Formulario \nReglamento Campeonato de Madrid de Marcha 1º Jornada \nCategorías: Sub10\,12 – Sub16\,18 y Máster \nTransporte del Club: NO \nListado de inscritos
URL:https://atletismoardillas.es/eventos/campeonato-de-madrid-de-marcha-1o-jornada/
LOCATION:C.D.M. Margot Moles de Vicálvaro\, P.º Polideportivo\, 3\, 28032 Madrid\, Madrid\, Madrid\, 28032\, España
CATEGORIES:Competición
ATTACH;FMTTYPE=image/png:https://atletismoardillas.es/wp-content/uploads/2020/02/ardillas-logo.png
END:VEVENT
BEGIN:VEVENT
DTSTART;TZID=Europe/Madrid:20230527T100000
DTEND;TZID=Europe/Madrid:20230527T133000
DTSTAMP:20260424T003336
CREATED:20230517T094841Z
LAST-MODIFIED:20230517T094841Z
UID:12180-1685181600-1685194200@atletismoardillas.es
SUMMARY:XXI Trofeo Atletismo Colegio Base - Jornada de Menores
DESCRIPTION:Formulario \nReglamento XXI Trofeo de Atletismo Colegio Base – Jornada de Menores \nCategorías: Sub10 a Sub18 \nTransporte del Club: NO \nListado de inscritos
URL:https://atletismoardillas.es/eventos/xxi-trofeo-atletismo-colegio-base-jornada-de-menores/
LOCATION:Polideportivo Jose Caballero (Alcobendas)\, Av. de la Transición Española\, s/n\, Alcobendas\, Madrid\, 28108
CATEGORIES:Competición
ATTACH;FMTTYPE=image/png:https://atletismoardillas.es/wp-content/uploads/2020/02/ardillas-logo.png
END:VEVENT
BEGIN:VEVENT
DTSTART;TZID=Europe/Madrid:20230527T180000
DTEND;TZID=Europe/Madrid:20230527T190000
DTSTAMP:20260424T003336
CREATED:20230517T100159Z
LAST-MODIFIED:20230517T100159Z
UID:12186-1685210400-1685214000@atletismoardillas.es
SUMMARY:Campeonato de Madrid de Marcha 2º Jornada
DESCRIPTION:Formulario \nReglamento Campeonato de Madrid de Marcha 2º Jornada \nCategorías: Sub14\,16 – Sub20\,23 y Absoluto \nTransporte del Club: NO \nListado de inscritos
URL:https://atletismoardillas.es/eventos/campeonato-de-madrid-de-marcha-2o-jornada/
LOCATION:Polideportivo Juan de la Cierva Getafe\, Av. Don Juan de Borbón\, Getafe\, Madrid\, 28901\, España
CATEGORIES:Competición
ATTACH;FMTTYPE=image/png:https://atletismoardillas.es/wp-content/uploads/2020/02/ardillas-logo.png
END:VEVENT
END:VCALENDAR