BEGIN:VCALENDAR
VERSION:2.0
PRODID:-//CLUB DE ATLETISMO LAS ARDILLAS DE EL ESCORIAL - ECPv5.5.0//NONSGML v1.0//EN
CALSCALE:GREGORIAN
METHOD:PUBLISH
X-WR-CALNAME:CLUB DE ATLETISMO LAS ARDILLAS DE EL ESCORIAL
X-ORIGINAL-URL:https://atletismoardillas.es
X-WR-CALDESC:Eventos para CLUB DE ATLETISMO LAS ARDILLAS DE EL ESCORIAL
BEGIN:VTIMEZONE
TZID:Europe/Madrid
BEGIN:DAYLIGHT
TZOFFSETFROM:+0100
TZOFFSETTO:+0200
TZNAME:CEST
DTSTART:20240331T010000
END:DAYLIGHT
BEGIN:STANDARD
TZOFFSETFROM:+0200
TZOFFSETTO:+0100
TZNAME:CET
DTSTART:20241027T010000
END:STANDARD
END:VTIMEZONE
BEGIN:VEVENT
DTSTART;TZID=Europe/Madrid:20240629T173000
DTEND;TZID=Europe/Madrid:20240630T210000
DTSTAMP:20260421T004238
CREATED:20240619T104846Z
LAST-MODIFIED:20240619T104846Z
UID:13532-1719682200-1719781200@atletismoardillas.es
SUMMARY:Campeonato de Madrid Sub16 - Sub20
DESCRIPTION:Formulario \nReglamento Campeonato de Madrid Sub16 – Sub20 \nCategorías: Sub16 y Sub20 \nTransporte del Club: NO \nListado de inscritos
URL:https://atletismoardillas.es/eventos/campeonato-de-madrid-sub16-sub20/
LOCATION:Ciudad Deportiva Europa (Leganés)\, Av. de Alemania\, 2D\, Leganés\, Madrid\, 28916
CATEGORIES:Competición
ATTACH;FMTTYPE=image/png:https://atletismoardillas.es/wp-content/uploads/2020/02/ardillas-logo.png
END:VEVENT
END:VCALENDAR