BEGIN:VCALENDAR
VERSION:2.0
PRODID:-//CLUB DE ATLETISMO LAS ARDILLAS DE EL ESCORIAL - ECPv5.5.0//NONSGML v1.0//EN
CALSCALE:GREGORIAN
METHOD:PUBLISH
X-WR-CALNAME:CLUB DE ATLETISMO LAS ARDILLAS DE EL ESCORIAL
X-ORIGINAL-URL:https://atletismoardillas.es
X-WR-CALDESC:Eventos para CLUB DE ATLETISMO LAS ARDILLAS DE EL ESCORIAL
BEGIN:VTIMEZONE
TZID:Europe/Madrid
BEGIN:DAYLIGHT
TZOFFSETFROM:+0100
TZOFFSETTO:+0200
TZNAME:CEST
DTSTART:20250330T010000
END:DAYLIGHT
BEGIN:STANDARD
TZOFFSETFROM:+0200
TZOFFSETTO:+0100
TZNAME:CET
DTSTART:20251026T010000
END:STANDARD
END:VTIMEZONE
BEGIN:VEVENT
DTSTART;TZID=Europe/Madrid:20250329T100000
DTEND;TZID=Europe/Madrid:20250329T120000
DTSTAMP:20260420T104240
CREATED:20250317T114156Z
LAST-MODIFIED:20250317T114156Z
UID:14840-1743242400-1743249600@atletismoardillas.es
SUMMARY:Campeonato de Madrid 10.000m Absoluto y 5.000m Sub18 y Sub20
DESCRIPTION:Formulario \nReglamento Cto de Madrid 10000 ABS y 5000 Sub18 y Sub20 \nCategorías: Sub18 y superiores \nTransporte del Club: NO \nListado de inscritos
URL:https://atletismoardillas.es/eventos/campeonato-de-madrid-10-000m-absoluto-y-5-000m-sub18-y-sub20/
LOCATION:C.D.M. Margot Moles de Vicálvaro\, P.º Polideportivo\, 3\, 28032 Madrid\, Madrid\, Madrid\, 28032\, España
CATEGORIES:Competición
ATTACH;FMTTYPE=image/png:https://atletismoardillas.es/wp-content/uploads/2020/02/ardillas-logo.png
END:VEVENT
END:VCALENDAR