BEGIN:VCALENDAR
VERSION:2.0
PRODID:-//CLUB DE ATLETISMO LAS ARDILLAS DE EL ESCORIAL - ECPv5.5.0//NONSGML v1.0//EN
CALSCALE:GREGORIAN
METHOD:PUBLISH
X-WR-CALNAME:CLUB DE ATLETISMO LAS ARDILLAS DE EL ESCORIAL
X-ORIGINAL-URL:https://atletismoardillas.es
X-WR-CALDESC:Eventos para CLUB DE ATLETISMO LAS ARDILLAS DE EL ESCORIAL
BEGIN:VTIMEZONE
TZID:Europe/Madrid
BEGIN:DAYLIGHT
TZOFFSETFROM:+0100
TZOFFSETTO:+0200
TZNAME:CEST
DTSTART:20250330T010000
END:DAYLIGHT
BEGIN:STANDARD
TZOFFSETFROM:+0200
TZOFFSETTO:+0100
TZNAME:CET
DTSTART:20251026T010000
END:STANDARD
END:VTIMEZONE
BEGIN:VEVENT
DTSTART;TZID=Europe/Madrid:20250524T100000
DTEND;TZID=Europe/Madrid:20250524T130000
DTSTAMP:20260420T073548
CREATED:20250513T062849Z
LAST-MODIFIED:20250513T062849Z
UID:15106-1748080800-1748091600@atletismoardillas.es
SUMMARY:Trofeo Colegio Base
DESCRIPTION:Formulario \nReglamento Trofeo Colegio Base \nCateogrías: Sub10 a Sub18 \nTransporte del Club: NO \nListado de inscritos
URL:https://atletismoardillas.es/eventos/trofeo-colegio-base/
LOCATION:Polideportivo Jose Caballero (Alcobendas)\, Av. de la Transición Española\, s/n\, Alcobendas\, Madrid\, 28108
CATEGORIES:Competición
ATTACH;FMTTYPE=image/png:https://atletismoardillas.es/wp-content/uploads/2020/02/ardillas-logo.png
END:VEVENT
END:VCALENDAR