BEGIN:VCALENDAR
VERSION:2.0
PRODID:-//CLUB DE ATLETISMO LAS ARDILLAS DE EL ESCORIAL - ECPv5.5.0//NONSGML v1.0//EN
CALSCALE:GREGORIAN
METHOD:PUBLISH
X-WR-CALNAME:CLUB DE ATLETISMO LAS ARDILLAS DE EL ESCORIAL
X-ORIGINAL-URL:https://atletismoardillas.es
X-WR-CALDESC:Eventos para CLUB DE ATLETISMO LAS ARDILLAS DE EL ESCORIAL
BEGIN:VTIMEZONE
TZID:Europe/Madrid
BEGIN:DAYLIGHT
TZOFFSETFROM:+0100
TZOFFSETTO:+0200
TZNAME:CEST
DTSTART:20250330T010000
END:DAYLIGHT
BEGIN:STANDARD
TZOFFSETFROM:+0200
TZOFFSETTO:+0100
TZNAME:CET
DTSTART:20251026T010000
END:STANDARD
END:VTIMEZONE
BEGIN:VEVENT
DTSTART;TZID=Europe/Madrid:20251101T103000
DTEND;TZID=Europe/Madrid:20251101T130000
DTSTAMP:20260419T230651
CREATED:20251020T064819Z
LAST-MODIFIED:20251020T064819Z
UID:15731-1761993000-1762002000@atletismoardillas.es
SUMMARY:Campeonato de Madrid Clubes Menores Campo a Través
DESCRIPTION:Formulario \nReglamento Campeonato de Madrid Clubes de Menores de Campo a Través \nCategorías: Sub10 a Sub16 \nTransporte del Club: NO \nListado de inscritos
URL:https://atletismoardillas.es/eventos/campeonato-de-madrid-clubes-menores-campo-a-traves/
LOCATION:Parque El Soto Móstoles\, Avda de Iker Casillas\, s/n\, Móstoles\, Madrid\, 28935\, España
CATEGORIES:Competición
ATTACH;FMTTYPE=image/png:https://atletismoardillas.es/wp-content/uploads/2020/02/ardillas-logo.png
END:VEVENT
END:VCALENDAR