BEGIN:VCALENDAR
VERSION:2.0
PRODID:-//CLUB DE ATLETISMO LAS ARDILLAS DE EL ESCORIAL - ECPv5.5.0//NONSGML v1.0//EN
CALSCALE:GREGORIAN
METHOD:PUBLISH
X-WR-CALNAME:CLUB DE ATLETISMO LAS ARDILLAS DE EL ESCORIAL
X-ORIGINAL-URL:https://atletismoardillas.es
X-WR-CALDESC:Eventos para CLUB DE ATLETISMO LAS ARDILLAS DE EL ESCORIAL
BEGIN:VTIMEZONE
TZID:Europe/Madrid
BEGIN:DAYLIGHT
TZOFFSETFROM:+0100
TZOFFSETTO:+0200
TZNAME:CEST
DTSTART:20220327T010000
END:DAYLIGHT
BEGIN:STANDARD
TZOFFSETFROM:+0200
TZOFFSETTO:+0100
TZNAME:CET
DTSTART:20221030T010000
END:STANDARD
END:VTIMEZONE
BEGIN:VEVENT
DTSTART;TZID=Europe/Madrid:20220213T103000
DTEND;TZID=Europe/Madrid:20220213T193000
DTSTAMP:20260422T064231
CREATED:20220201T130537Z
LAST-MODIFIED:20220203T111328Z
UID:10249-1644748200-1644780600@atletismoardillas.es
SUMMARY:Campeonato de Madrid Absoluto
DESCRIPTION:Formulario \nReglamento absoluto_gallur_2022_02_13 \nCategorías: Sub 16 y superiores \nTransporte del club: NO \nListado de inscritos
URL:https://atletismoardillas.es/eventos/campeonato-de-madrid-absoluto/
LOCATION:Pista Cubierta Gallur\, Av. de Ángel Sanz Briz\, Madrid\, Madrid\, 28047\, España
CATEGORIES:Competición
ATTACH;FMTTYPE=image/png:https://atletismoardillas.es/wp-content/uploads/2020/02/ardillas-logo.png
END:VEVENT
END:VCALENDAR