BEGIN:VCALENDAR
VERSION:2.0
PRODID:-//CLUB DE ATLETISMO LAS ARDILLAS DE EL ESCORIAL - ECPv5.5.0//NONSGML v1.0//EN
CALSCALE:GREGORIAN
METHOD:PUBLISH
X-WR-CALNAME:CLUB DE ATLETISMO LAS ARDILLAS DE EL ESCORIAL
X-ORIGINAL-URL:https://atletismoardillas.es
X-WR-CALDESC:Eventos para CLUB DE ATLETISMO LAS ARDILLAS DE EL ESCORIAL
BEGIN:VTIMEZONE
TZID:Europe/Madrid
BEGIN:DAYLIGHT
TZOFFSETFROM:+0100
TZOFFSETTO:+0200
TZNAME:CEST
DTSTART:20200329T010000
END:DAYLIGHT
BEGIN:STANDARD
TZOFFSETFROM:+0200
TZOFFSETTO:+0100
TZNAME:CET
DTSTART:20201025T010000
END:STANDARD
END:VTIMEZONE
BEGIN:VEVENT
DTSTART;TZID=Europe/Madrid:20200314T153000
DTEND;TZID=Europe/Madrid:20200314T200000
DTSTAMP:20260421T102403
CREATED:20200216T121115Z
LAST-MODIFIED:20200216T163027Z
UID:7915-1584199800-1584216000@atletismoardillas.es
SUMMARY:CAMPEONATO DE MADRID COMBINADAS PC SUB14
DESCRIPTION:PRUEBAS\nPentatlon Sub 14 M 60 ml\, longitud\, peso\, altura\, 60 mv\nTetratlon Sub 14 F 60 mv\, peso\, longitud\, 60 ml\ncombinadas_sub14_gallur_2020_03_14
URL:https://atletismoardillas.es/eventos/campeonato-de-madrid-combinadas-pc/
ATTACH;FMTTYPE=image/png:https://atletismoardillas.es/wp-content/uploads/2020/02/ardillas-logo.png
END:VEVENT
END:VCALENDAR