BEGIN:VCALENDAR
VERSION:2.0
PRODID:-//CLUB DE ATLETISMO LAS ARDILLAS DE EL ESCORIAL - ECPv5.5.0//NONSGML v1.0//EN
CALSCALE:GREGORIAN
METHOD:PUBLISH
X-WR-CALNAME:CLUB DE ATLETISMO LAS ARDILLAS DE EL ESCORIAL
X-ORIGINAL-URL:https://atletismoardillas.es
X-WR-CALDESC:Eventos para CLUB DE ATLETISMO LAS ARDILLAS DE EL ESCORIAL
BEGIN:VTIMEZONE
TZID:Europe/Madrid
BEGIN:DAYLIGHT
TZOFFSETFROM:+0100
TZOFFSETTO:+0200
TZNAME:CEST
DTSTART:20240331T010000
END:DAYLIGHT
BEGIN:STANDARD
TZOFFSETFROM:+0200
TZOFFSETTO:+0100
TZNAME:CET
DTSTART:20241027T010000
END:STANDARD
END:VTIMEZONE
BEGIN:VEVENT
DTSTART;TZID=Europe/Madrid:20240518T100000
DTEND;TZID=Europe/Madrid:20240519T193000
DTSTAMP:20260420T161048
CREATED:20240507T115334Z
LAST-MODIFIED:20240507T115334Z
UID:13344-1716026400-1716147000@atletismoardillas.es
SUMMARY:Campeonato de Madrid Combinadas Sub14 - Jornada de Menores
DESCRIPTION:Formulario \nReglamento Campeonato de Madrid Combinadas Sub14 – Jornada de Menores \nCategorías: Sub8 a Sub14 \nTransporte del Club: NO \nListado de inscritos \n 
URL:https://atletismoardillas.es/eventos/campeonato-de-madrid-combinadas-sub14-jornada-de-menores/
LOCATION:Pista Atletismo C.D.M. Aluche\, Dirección: Av. de Las Águilas\, 27\, 28044 Madrid\, Madrid\, Madrid\, 20844\, España
CATEGORIES:Competición,Control
ATTACH;FMTTYPE=image/png:https://atletismoardillas.es/wp-content/uploads/2020/02/ardillas-logo.png
END:VEVENT
END:VCALENDAR