BEGIN:VCALENDAR
VERSION:2.0
PRODID:-//CLUB DE ATLETISMO LAS ARDILLAS DE EL ESCORIAL - ECPv5.5.0//NONSGML v1.0//EN
CALSCALE:GREGORIAN
METHOD:PUBLISH
X-WR-CALNAME:CLUB DE ATLETISMO LAS ARDILLAS DE EL ESCORIAL
X-ORIGINAL-URL:https://atletismoardillas.es
X-WR-CALDESC:Eventos para CLUB DE ATLETISMO LAS ARDILLAS DE EL ESCORIAL
BEGIN:VTIMEZONE
TZID:Europe/Madrid
BEGIN:DAYLIGHT
TZOFFSETFROM:+0100
TZOFFSETTO:+0200
TZNAME:CEST
DTSTART:20250330T010000
END:DAYLIGHT
BEGIN:STANDARD
TZOFFSETFROM:+0200
TZOFFSETTO:+0100
TZNAME:CET
DTSTART:20251026T010000
END:STANDARD
END:VTIMEZONE
BEGIN:VEVENT
DTSTART;TZID=Europe/Madrid:20250601T110000
DTEND;TZID=Europe/Madrid:20250601T123000
DTSTAMP:20260420T055230
CREATED:20250519T110505Z
LAST-MODIFIED:20250519T110505Z
UID:15230-1748775600-1748781000@atletismoardillas.es
SUMMARY:Campeonato de Madrid de la Milla en Ruta de Menores - El Escorial
DESCRIPTION:Formulario \nReglamento Campeonato de Madrid de la Milla en Ruta de Menores – El Escorial \nCategorías: Sub16 e inferiores \nTransporte del Club: NO \nListado de inscritos
URL:https://atletismoardillas.es/eventos/campeonato-de-madrid-de-la-milla-en-ruta-de-menores-el-escorial/
LOCATION:Plaza de El escorial\, Avenida de la Arboleda\, El Escorial\, Madrid\, 28280\, España
CATEGORIES:Competición
ATTACH;FMTTYPE=image/png:https://atletismoardillas.es/wp-content/uploads/2020/02/ardillas-logo.png
END:VEVENT
END:VCALENDAR