BEGIN:VCALENDAR
VERSION:2.0
PRODID:-//CLUB DE ATLETISMO LAS ARDILLAS DE EL ESCORIAL - ECPv5.5.0//NONSGML v1.0//EN
CALSCALE:GREGORIAN
METHOD:PUBLISH
X-WR-CALNAME:CLUB DE ATLETISMO LAS ARDILLAS DE EL ESCORIAL
X-ORIGINAL-URL:https://atletismoardillas.es
X-WR-CALDESC:Eventos para CLUB DE ATLETISMO LAS ARDILLAS DE EL ESCORIAL
BEGIN:VTIMEZONE
TZID:Europe/Madrid
BEGIN:DAYLIGHT
TZOFFSETFROM:+0100
TZOFFSETTO:+0200
TZNAME:CEST
DTSTART:20220327T010000
END:DAYLIGHT
BEGIN:STANDARD
TZOFFSETFROM:+0200
TZOFFSETTO:+0100
TZNAME:CET
DTSTART:20221030T010000
END:STANDARD
END:VTIMEZONE
BEGIN:VEVENT
DTSTART;TZID=Europe/Madrid:20220709T173000
DTEND;TZID=Europe/Madrid:20220710T190000
DTSTAMP:20260423T104355
CREATED:20220628T161820Z
LAST-MODIFIED:20220628T161820Z
UID:10930-1657387800-1657479600@atletismoardillas.es
SUMMARY:Campeonato de Madrid Sub 20
DESCRIPTION:Formulario \nReglamento Cto Madrid Sub 20 \nCategorías: Sub 16 y superiores \nTransporte del club: NO \nListado de inscritos
URL:https://atletismoardillas.es/eventos/campeonato-de-madrid-sub-20/
LOCATION:Vallehermoso\, C/ Melquiades Álvarez\, Madrid\, Madrid\, 28003\, España
CATEGORIES:Competición
ATTACH;FMTTYPE=image/png:https://atletismoardillas.es/wp-content/uploads/2020/02/ardillas-logo.png
END:VEVENT
END:VCALENDAR