BEGIN:VCALENDAR
VERSION:2.0
PRODID:-//CLUB DE ATLETISMO LAS ARDILLAS DE EL ESCORIAL - ECPv5.5.0//NONSGML v1.0//EN
CALSCALE:GREGORIAN
METHOD:PUBLISH
X-WR-CALNAME:CLUB DE ATLETISMO LAS ARDILLAS DE EL ESCORIAL
X-ORIGINAL-URL:https://atletismoardillas.es
X-WR-CALDESC:Eventos para CLUB DE ATLETISMO LAS ARDILLAS DE EL ESCORIAL
BEGIN:VTIMEZONE
TZID:Europe/Madrid
BEGIN:DAYLIGHT
TZOFFSETFROM:+0100
TZOFFSETTO:+0200
TZNAME:CEST
DTSTART:20250330T010000
END:DAYLIGHT
BEGIN:STANDARD
TZOFFSETFROM:+0200
TZOFFSETTO:+0100
TZNAME:CET
DTSTART:20251026T010000
END:STANDARD
END:VTIMEZONE
BEGIN:VEVENT
DTSTART;TZID=Europe/Madrid:20250615T100000
DTEND;TZID=Europe/Madrid:20250615T130000
DTSTAMP:20260420T022759
CREATED:20250604T072659Z
LAST-MODIFIED:20250604T072659Z
UID:15361-1749981600-1749992400@atletismoardillas.es
SUMMARY:Campeonato de Madrid Sub8 y Sub10
DESCRIPTION:Formulario \nReglamento Campeonato de Madrid Sub8 y Sub10 \nCategorías: Sub8 y Sub10 \nTransporte del Club: NO \nListado de inscritos \n 
URL:https://atletismoardillas.es/eventos/campeonato-de-madrid-sub8-y-sub10/
LOCATION:Pista de Atletismo de Majadahonda\, Av. Guadarrama\, 21\, Majadahonda\, Madrid\, 28220\, España
CATEGORIES:Competición
ATTACH;FMTTYPE=image/png:https://atletismoardillas.es/wp-content/uploads/2020/02/ardillas-logo.png
END:VEVENT
END:VCALENDAR