BEGIN:VCALENDAR
VERSION:2.0
PRODID:-//CLUB DE ATLETISMO LAS ARDILLAS DE EL ESCORIAL - ECPv5.5.0//NONSGML v1.0//EN
CALSCALE:GREGORIAN
METHOD:PUBLISH
X-WR-CALNAME:CLUB DE ATLETISMO LAS ARDILLAS DE EL ESCORIAL
X-ORIGINAL-URL:https://atletismoardillas.es
X-WR-CALDESC:Eventos para CLUB DE ATLETISMO LAS ARDILLAS DE EL ESCORIAL
BEGIN:VTIMEZONE
TZID:Europe/Madrid
BEGIN:DAYLIGHT
TZOFFSETFROM:+0100
TZOFFSETTO:+0200
TZNAME:CEST
DTSTART:20230326T010000
END:DAYLIGHT
BEGIN:STANDARD
TZOFFSETFROM:+0200
TZOFFSETTO:+0100
TZNAME:CET
DTSTART:20231029T010000
END:STANDARD
END:VTIMEZONE
BEGIN:VEVENT
DTSTART;TZID=Europe/Madrid:20230304T103000
DTEND;TZID=Europe/Madrid:20230305T120000
DTSTAMP:20260424T033330
CREATED:20230221T175005Z
LAST-MODIFIED:20230221T175005Z
UID:11845-1677925800-1678017600@atletismoardillas.es
SUMMARY:Campeonato Madrid Combinadas: Sub 10\, Sub 12 y Sub 16 - Jornada de Menores
DESCRIPTION:Formulario \nReglamento Cto Madrid Combinadas Sub 10\, Sub 12 y Sub 16 – Jornada de Menores \nCategorías: Sub10\, Sub12 y Sub16. \nTransporte del Club : NO \nListado de inscritos
URL:https://atletismoardillas.es/eventos/campeonato-madrid-combinadas-sub-10-sub-12-y-sub-16-jornada-de-menores/
LOCATION:Pista Cubierta Gallur\, Av. de Ángel Sanz Briz\, Madrid\, Madrid\, 28047\, España
CATEGORIES:Competición
ATTACH;FMTTYPE=image/png:https://atletismoardillas.es/wp-content/uploads/2020/02/ardillas-logo.png
END:VEVENT
END:VCALENDAR