BEGIN:VCALENDAR
VERSION:2.0
PRODID:-//CLUB DE ATLETISMO LAS ARDILLAS DE EL ESCORIAL - ECPv5.5.0//NONSGML v1.0//EN
CALSCALE:GREGORIAN
METHOD:PUBLISH
X-WR-CALNAME:CLUB DE ATLETISMO LAS ARDILLAS DE EL ESCORIAL
X-ORIGINAL-URL:https://atletismoardillas.es
X-WR-CALDESC:Eventos para CLUB DE ATLETISMO LAS ARDILLAS DE EL ESCORIAL
BEGIN:VTIMEZONE
TZID:Europe/Madrid
BEGIN:DAYLIGHT
TZOFFSETFROM:+0100
TZOFFSETTO:+0200
TZNAME:CEST
DTSTART:20230326T010000
END:DAYLIGHT
BEGIN:STANDARD
TZOFFSETFROM:+0200
TZOFFSETTO:+0100
TZNAME:CET
DTSTART:20231029T010000
END:STANDARD
END:VTIMEZONE
BEGIN:VEVENT
DTSTART;TZID=Europe/Madrid:20230305T100000
DTEND;TZID=Europe/Madrid:20230305T140000
DTSTAMP:20260424T045905
CREATED:20230222T071412Z
LAST-MODIFIED:20230222T071412Z
UID:11858-1678010400-1678024800@atletismoardillas.es
SUMMARY:Campeonato Madrid Sub 16 y Sub 18 Campo a Través - Cross Villa de Valdemorillo
DESCRIPTION:Formulario \nReglamento Cto Madrid Sub 16 y Sub 18 Campo a Través – Cross Villa de Valdemorillo \nCategorías: Sub10 y superiores \nTransporte del club: NO \nListado de inscritos
URL:https://atletismoardillas.es/eventos/campeonato-madrid-sub-16-y-sub-18-campo-a-traves-cross-villa-de-valdemorillo/
LOCATION:Polideportivo Dehesa de los Godonales – Valdemorillo\, Av. Segovia\, Valdemorillo\, Madrid\, 28210\, España
ATTACH;FMTTYPE=image/png:https://atletismoardillas.es/wp-content/uploads/2020/02/ardillas-logo.png
END:VEVENT
END:VCALENDAR