BEGIN:VCALENDAR
VERSION:2.0
PRODID:-//CLUB DE ATLETISMO LAS ARDILLAS DE EL ESCORIAL - ECPv5.5.0//NONSGML v1.0//EN
CALSCALE:GREGORIAN
METHOD:PUBLISH
X-WR-CALNAME:CLUB DE ATLETISMO LAS ARDILLAS DE EL ESCORIAL
X-ORIGINAL-URL:https://atletismoardillas.es
X-WR-CALDESC:Eventos para CLUB DE ATLETISMO LAS ARDILLAS DE EL ESCORIAL
BEGIN:VTIMEZONE
TZID:Europe/Madrid
BEGIN:DAYLIGHT
TZOFFSETFROM:+0100
TZOFFSETTO:+0200
TZNAME:CEST
DTSTART:20250330T010000
END:DAYLIGHT
BEGIN:STANDARD
TZOFFSETFROM:+0200
TZOFFSETTO:+0100
TZNAME:CET
DTSTART:20251026T010000
END:STANDARD
END:VTIMEZONE
BEGIN:VEVENT
DTSTART;TZID=Europe/Madrid:20250525T173000
DTEND;TZID=Europe/Madrid:20250525T183000
DTSTAMP:20260420T140038
CREATED:20250513T103239Z
LAST-MODIFIED:20250513T103239Z
UID:15130-1748194200-1748197800@atletismoardillas.es
SUMMARY:Control 3000m Sub16-18
DESCRIPTION:Formulario \nReglamento Control 3000 Sub16-Sub18 \nCategorías: Sub16 y Sub18 \nTransporte del Club: NO \nListado de inscritos
URL:https://atletismoardillas.es/eventos/control-3000m-sub16-18/
LOCATION:Pista Atletismo C.D.M. Aluche\, Dirección: Av. de Las Águilas\, 27\, 28044 Madrid\, Madrid\, Madrid\, 20844\, España
CATEGORIES:Control
ATTACH;FMTTYPE=image/png:https://atletismoardillas.es/wp-content/uploads/2020/02/ardillas-logo.png
END:VEVENT
END:VCALENDAR