BEGIN:VCALENDAR
VERSION:2.0
PRODID:-//CLUB DE ATLETISMO LAS ARDILLAS DE EL ESCORIAL - ECPv5.5.0//NONSGML v1.0//EN
CALSCALE:GREGORIAN
METHOD:PUBLISH
X-WR-CALNAME:CLUB DE ATLETISMO LAS ARDILLAS DE EL ESCORIAL
X-ORIGINAL-URL:https://atletismoardillas.es
X-WR-CALDESC:Eventos para CLUB DE ATLETISMO LAS ARDILLAS DE EL ESCORIAL
BEGIN:VTIMEZONE
TZID:Europe/Madrid
BEGIN:DAYLIGHT
TZOFFSETFROM:+0100
TZOFFSETTO:+0200
TZNAME:CEST
DTSTART:20220327T010000
END:DAYLIGHT
BEGIN:STANDARD
TZOFFSETFROM:+0200
TZOFFSETTO:+0100
TZNAME:CET
DTSTART:20221030T010000
END:STANDARD
END:VTIMEZONE
BEGIN:VEVENT
DTSTART;TZID=Europe/Madrid:20221012T084500
DTEND;TZID=Europe/Madrid:20221012T135500
DTSTAMP:20260419T202544
CREATED:20220915T075107Z
LAST-MODIFIED:20220915T075107Z
UID:11102-1665564300-1665582900@atletismoardillas.es
SUMMARY:CROSS DEL PILAR
DESCRIPTION:Formulario /información \nCategorías: Todas las categorías \nTransporte del club: SI \nListado de inscritos
URL:https://atletismoardillas.es/eventos/cross-del-pilar/
LOCATION:Barrio del Pilar\, Parque Norte - Avenida Monforte de Lemos s/n\, Madrid\, Madrid\, España
CATEGORIES:Competición
ATTACH;FMTTYPE=image/png:https://atletismoardillas.es/wp-content/uploads/2020/02/ardillas-logo.png
END:VEVENT
END:VCALENDAR