BEGIN:VCALENDAR
VERSION:2.0
PRODID:-//CLUB DE ATLETISMO LAS ARDILLAS DE EL ESCORIAL - ECPv5.5.0//NONSGML v1.0//EN
CALSCALE:GREGORIAN
METHOD:PUBLISH
X-WR-CALNAME:CLUB DE ATLETISMO LAS ARDILLAS DE EL ESCORIAL
X-ORIGINAL-URL:https://atletismoardillas.es
X-WR-CALDESC:Eventos para CLUB DE ATLETISMO LAS ARDILLAS DE EL ESCORIAL
BEGIN:VTIMEZONE
TZID:Europe/Madrid
BEGIN:DAYLIGHT
TZOFFSETFROM:+0100
TZOFFSETTO:+0200
TZNAME:CEST
DTSTART:20250330T010000
END:DAYLIGHT
BEGIN:STANDARD
TZOFFSETFROM:+0200
TZOFFSETTO:+0100
TZNAME:CET
DTSTART:20251026T010000
END:STANDARD
END:VTIMEZONE
BEGIN:VEVENT
DTSTART;TZID=Europe/Madrid:20251130T093000
DTEND;TZID=Europe/Madrid:20251130T143000
DTSTAMP:20260419T230733
CREATED:20251120T080851Z
LAST-MODIFIED:20251120T080851Z
UID:15933-1764495000-1764513000@atletismoardillas.es
SUMMARY:Cross Internacional Constitución Alcobendas
DESCRIPTION:Formulario \nReglamento Cross Internacional Constituticón – Alcobendas \nCategorías: Todas las categorías \nTransporte del Club: NO \nListado de inscritos
URL:https://atletismoardillas.es/eventos/cross-internacional-constitucion-alcobendas/
LOCATION:CIRCUITO DEL PARQUE DE ANDALUCÍA – ALCOBENDAS\, Av. Valdeparra\, Alcobendas\, Madrid\, 28100\, España
CATEGORIES:Competición
ATTACH;FMTTYPE=image/png:https://atletismoardillas.es/wp-content/uploads/2020/02/ardillas-logo.png
END:VEVENT
END:VCALENDAR