BEGIN:VCALENDAR
VERSION:2.0
PRODID:-//CLUB DE ATLETISMO LAS ARDILLAS DE EL ESCORIAL - ECPv5.5.0//NONSGML v1.0//EN
CALSCALE:GREGORIAN
METHOD:PUBLISH
X-WR-CALNAME:CLUB DE ATLETISMO LAS ARDILLAS DE EL ESCORIAL
X-ORIGINAL-URL:https://atletismoardillas.es
X-WR-CALDESC:Eventos para CLUB DE ATLETISMO LAS ARDILLAS DE EL ESCORIAL
BEGIN:VTIMEZONE
TZID:UTC
BEGIN:STANDARD
TZOFFSETFROM:+0000
TZOFFSETTO:+0000
TZNAME:UTC
DTSTART:20170101T000000
END:STANDARD
END:VTIMEZONE
BEGIN:VEVENT
DTSTART;VALUE=DATE:20171126
DTEND;VALUE=DATE:20171127
DTSTAMP:20260420T204138
CREATED:20170926T123857Z
LAST-MODIFIED:20170926T125728Z
UID:6849-1511654400-1511740799@atletismoardillas.es
SUMMARY:Cross Internacional de la Constitución
DESCRIPTION:
URL:https://atletismoardillas.es/eventos/cross-internacional-de-la-constitucion/
LOCATION:Parque Andalucia\, Parque Andalucia\, alcobendas\, madrid\, España
CATEGORIES:Competición
END:VEVENT
END:VCALENDAR