BEGIN:VCALENDAR
VERSION:2.0
PRODID:-//CLUB DE ATLETISMO LAS ARDILLAS DE EL ESCORIAL - ECPv5.5.0//NONSGML v1.0//EN
CALSCALE:GREGORIAN
METHOD:PUBLISH
X-WR-CALNAME:CLUB DE ATLETISMO LAS ARDILLAS DE EL ESCORIAL
X-ORIGINAL-URL:https://atletismoardillas.es
X-WR-CALDESC:Eventos para CLUB DE ATLETISMO LAS ARDILLAS DE EL ESCORIAL
BEGIN:VTIMEZONE
TZID:Europe/Madrid
BEGIN:DAYLIGHT
TZOFFSETFROM:+0100
TZOFFSETTO:+0200
TZNAME:CEST
DTSTART:20210328T010000
END:DAYLIGHT
BEGIN:STANDARD
TZOFFSETFROM:+0200
TZOFFSETTO:+0100
TZNAME:CET
DTSTART:20211031T010000
END:STANDARD
END:VTIMEZONE
BEGIN:VEVENT
DTSTART;TZID=Europe/Madrid:20210110T110000
DTEND;TZID=Europe/Madrid:20210110T140000
DTSTAMP:20260421T133318
CREATED:20201229T183421Z
LAST-MODIFIED:20201229T183647Z
UID:8565-1610276400-1610287200@atletismoardillas.es
SUMMARY:II REUNIÓN FAM PISTA CUBIERTA
DESCRIPTION:Pruebas de 1.500 y 800 ml para atletas desde SUB16 hacia arriba. \ncontrolabsoluto_gallur_2021_01_10 \nFormulario de inscripción \nUbicación
URL:https://atletismoardillas.es/eventos/ii-reunion-fam-pista-cubierta/
CATEGORIES:Control
ATTACH;FMTTYPE=image/png:https://atletismoardillas.es/wp-content/uploads/2020/02/ardillas-logo.png
END:VEVENT
END:VCALENDAR