BEGIN:VCALENDAR
VERSION:2.0
PRODID:-//CLUB DE ATLETISMO LAS ARDILLAS DE EL ESCORIAL - ECPv5.5.0//NONSGML v1.0//EN
CALSCALE:GREGORIAN
METHOD:PUBLISH
X-WR-CALNAME:CLUB DE ATLETISMO LAS ARDILLAS DE EL ESCORIAL
X-ORIGINAL-URL:https://atletismoardillas.es
X-WR-CALDESC:Eventos para CLUB DE ATLETISMO LAS ARDILLAS DE EL ESCORIAL
BEGIN:VTIMEZONE
TZID:Europe/Madrid
BEGIN:DAYLIGHT
TZOFFSETFROM:+0100
TZOFFSETTO:+0200
TZNAME:CEST
DTSTART:20250330T010000
END:DAYLIGHT
BEGIN:STANDARD
TZOFFSETFROM:+0200
TZOFFSETTO:+0100
TZNAME:CET
DTSTART:20251026T010000
END:STANDARD
END:VTIMEZONE
BEGIN:VEVENT
DTSTART;TZID=Europe/Madrid:20251130T100000
DTEND;TZID=Europe/Madrid:20251130T130000
DTSTAMP:20260420T004400
CREATED:20251120T074519Z
LAST-MODIFIED:20251120T074519Z
UID:15925-1764496800-1764507600@atletismoardillas.es
SUMMARY:Jornada de Menores 10 Aluche
DESCRIPTION:Formulario \nReglamento Jornada de Menores 10 Aluche \nCategorías: Sub16 e inferiores \nTransporte del Club: NO \nListado de inscritos
URL:https://atletismoardillas.es/eventos/jornada-de-menores-10-aluche/
LOCATION:Pista Atletismo C.D.M. Aluche\, Dirección: Av. de Las Águilas\, 27\, 28044 Madrid\, Madrid\, Madrid\, 20844\, España
CATEGORIES:Control
ATTACH;FMTTYPE=image/png:https://atletismoardillas.es/wp-content/uploads/2020/02/ardillas-logo.png
END:VEVENT
END:VCALENDAR