BEGIN:VCALENDAR
VERSION:2.0
PRODID:-//CLUB DE ATLETISMO LAS ARDILLAS DE EL ESCORIAL - ECPv5.5.0//NONSGML v1.0//EN
CALSCALE:GREGORIAN
METHOD:PUBLISH
X-WR-CALNAME:CLUB DE ATLETISMO LAS ARDILLAS DE EL ESCORIAL
X-ORIGINAL-URL:https://atletismoardillas.es
X-WR-CALDESC:Eventos para CLUB DE ATLETISMO LAS ARDILLAS DE EL ESCORIAL
BEGIN:VTIMEZONE
TZID:Europe/Madrid
BEGIN:DAYLIGHT
TZOFFSETFROM:+0100
TZOFFSETTO:+0200
TZNAME:CEST
DTSTART:20220327T010000
END:DAYLIGHT
BEGIN:STANDARD
TZOFFSETFROM:+0200
TZOFFSETTO:+0100
TZNAME:CET
DTSTART:20221030T010000
END:STANDARD
END:VTIMEZONE
BEGIN:VEVENT
DTSTART;TZID=Europe/Madrid:20220409T100000
DTEND;TZID=Europe/Madrid:20220409T123000
DTSTAMP:20260420T210857
CREATED:20220329T103921Z
LAST-MODIFIED:20220329T103921Z
UID:10476-1649498400-1649507400@atletismoardillas.es
SUMMARY:Jornada de Menores 24 Pozuelo de Alarcón
DESCRIPTION:Formulario \nReglamento Jornada de Menores 24 Pozuelo de Alarcón \nCategorías: Sub8 – Sub16 \nTransporte del club: NO \nListado de inscritos
URL:https://atletismoardillas.es/eventos/jornada-de-menores-24-pozuelo-de-alarcon/
LOCATION:Pozuelo de Alarcón\, Av. Juan Antonio Samaranch Torelló\, 8\, 28223 Pozuelo de Alarcón\, Madrid\, Madrid\, Madrid\, 28223\, España
ATTACH;FMTTYPE=image/png:https://atletismoardillas.es/wp-content/uploads/2020/02/ardillas-logo.png
END:VEVENT
END:VCALENDAR