BEGIN:VCALENDAR
VERSION:2.0
PRODID:-//CLUB DE ATLETISMO LAS ARDILLAS DE EL ESCORIAL - ECPv5.5.0//NONSGML v1.0//EN
CALSCALE:GREGORIAN
METHOD:PUBLISH
X-WR-CALNAME:CLUB DE ATLETISMO LAS ARDILLAS DE EL ESCORIAL
X-ORIGINAL-URL:https://atletismoardillas.es
X-WR-CALDESC:Eventos para CLUB DE ATLETISMO LAS ARDILLAS DE EL ESCORIAL
BEGIN:VTIMEZONE
TZID:Europe/Madrid
BEGIN:DAYLIGHT
TZOFFSETFROM:+0100
TZOFFSETTO:+0200
TZNAME:CEST
DTSTART:20260329T010000
END:DAYLIGHT
BEGIN:STANDARD
TZOFFSETFROM:+0200
TZOFFSETTO:+0100
TZNAME:CET
DTSTART:20261025T010000
END:STANDARD
END:VTIMEZONE
BEGIN:VEVENT
DTSTART;TZID=Europe/Madrid:20260307T100000
DTEND;TZID=Europe/Madrid:20260307T130000
DTSTAMP:20260420T134006
CREATED:20260224T090757Z
LAST-MODIFIED:20260224T090757Z
UID:16229-1772877600-1772888400@atletismoardillas.es
SUMMARY:Jornada de Menores 32 Collado Villalba
DESCRIPTION:Formulario \nReglamento Jornada de Menores 32 Collado Villalba \nCategorías: Sub14 y Sub16 \nTransporte del Club: NO \nListado de inscritos
URL:https://atletismoardillas.es/eventos/jornada-de-menores-32-collado-villalba-3/
LOCATION:Pista de Atletismo José Fernández Nieto de Collado Villalba\, C. las Águedas\, 295\, 28400 Collado Villalba\, Madrid\, Collado Villalba\, Madrid\, 28400\, España
CATEGORIES:Control
ATTACH;FMTTYPE=image/png:https://atletismoardillas.es/wp-content/uploads/2020/02/ardillas-logo.png
END:VEVENT
END:VCALENDAR