BEGIN:VCALENDAR
VERSION:2.0
PRODID:-//CLUB DE ATLETISMO LAS ARDILLAS DE EL ESCORIAL - ECPv5.5.0//NONSGML v1.0//EN
CALSCALE:GREGORIAN
METHOD:PUBLISH
X-WR-CALNAME:CLUB DE ATLETISMO LAS ARDILLAS DE EL ESCORIAL
X-ORIGINAL-URL:https://atletismoardillas.es
X-WR-CALDESC:Eventos para CLUB DE ATLETISMO LAS ARDILLAS DE EL ESCORIAL
BEGIN:VTIMEZONE
TZID:Europe/Madrid
BEGIN:DAYLIGHT
TZOFFSETFROM:+0100
TZOFFSETTO:+0200
TZNAME:CEST
DTSTART:20220327T010000
END:DAYLIGHT
BEGIN:STANDARD
TZOFFSETFROM:+0200
TZOFFSETTO:+0100
TZNAME:CET
DTSTART:20221030T010000
END:STANDARD
END:VTIMEZONE
BEGIN:VEVENT
DTSTART;TZID=Europe/Madrid:20220515T100000
DTEND;TZID=Europe/Madrid:20220515T133000
DTSTAMP:20260420T164308
CREATED:20220504T104631Z
LAST-MODIFIED:20220504T104631Z
UID:10601-1652608800-1652621400@atletismoardillas.es
SUMMARY:Jornada de Menores 32 Leganés
DESCRIPTION:Formulario \nReglamento Jornada de Menores 32 Leganés \nCategorías: Sub 8 a Sub 18 \nTransporte del Club: NO \nListado de inscritos
URL:https://atletismoardillas.es/eventos/jornada-de-menores-32-leganes/
LOCATION:Ciudad Deportiva Europa (Leganés)\, Av. de Alemania\, 2D\, Leganés\, Madrid\, 28916
ATTACH;FMTTYPE=image/png:https://atletismoardillas.es/wp-content/uploads/2020/02/ardillas-logo.png
END:VEVENT
END:VCALENDAR