BEGIN:VCALENDAR
VERSION:2.0
PRODID:-//CLUB DE ATLETISMO LAS ARDILLAS DE EL ESCORIAL - ECPv5.5.0//NONSGML v1.0//EN
CALSCALE:GREGORIAN
METHOD:PUBLISH
X-WR-CALNAME:CLUB DE ATLETISMO LAS ARDILLAS DE EL ESCORIAL
X-ORIGINAL-URL:https://atletismoardillas.es
X-WR-CALDESC:Eventos para CLUB DE ATLETISMO LAS ARDILLAS DE EL ESCORIAL
BEGIN:VTIMEZONE
TZID:Europe/Madrid
BEGIN:DAYLIGHT
TZOFFSETFROM:+0100
TZOFFSETTO:+0200
TZNAME:CEST
DTSTART:20230326T010000
END:DAYLIGHT
BEGIN:STANDARD
TZOFFSETFROM:+0200
TZOFFSETTO:+0100
TZNAME:CET
DTSTART:20231029T010000
END:STANDARD
END:VTIMEZONE
BEGIN:VEVENT
DTSTART;TZID=Europe/Madrid:20230513T100000
DTEND;TZID=Europe/Madrid:20230513T130000
DTSTAMP:20260424T033127
CREATED:20230504T100717Z
LAST-MODIFIED:20230504T100717Z
UID:12110-1683972000-1683982800@atletismoardillas.es
SUMMARY:Jornada de Menores 34 Alcorcón
DESCRIPTION:Formulario \nReglamento Jornada de Menores 34 Alcorcón \nCategorías: Sub8 a Sub14 \nTransporte del Club: NO \nListado de inscritos
URL:https://atletismoardillas.es/eventos/jornada-de-menores-34-alcorcon/
LOCATION:Polideportivo Prado de Santo Domingo de Alcorcón\, C. Los Robles\, 21.\, Madrid\, Madrid\, 28922
ATTACH;FMTTYPE=image/png:https://atletismoardillas.es/wp-content/uploads/2020/02/ardillas-logo.png
END:VEVENT
END:VCALENDAR