BEGIN:VCALENDAR
VERSION:2.0
PRODID:-//CLUB DE ATLETISMO LAS ARDILLAS DE EL ESCORIAL - ECPv5.5.0//NONSGML v1.0//EN
CALSCALE:GREGORIAN
METHOD:PUBLISH
X-WR-CALNAME:CLUB DE ATLETISMO LAS ARDILLAS DE EL ESCORIAL
X-ORIGINAL-URL:https://atletismoardillas.es
X-WR-CALDESC:Eventos para CLUB DE ATLETISMO LAS ARDILLAS DE EL ESCORIAL
BEGIN:VTIMEZONE
TZID:Europe/Madrid
BEGIN:DAYLIGHT
TZOFFSETFROM:+0100
TZOFFSETTO:+0200
TZNAME:CEST
DTSTART:20220327T010000
END:DAYLIGHT
BEGIN:STANDARD
TZOFFSETFROM:+0200
TZOFFSETTO:+0100
TZNAME:CET
DTSTART:20221030T010000
END:STANDARD
END:VTIMEZONE
BEGIN:VEVENT
DTSTART;TZID=Europe/Madrid:20220521T100000
DTEND;TZID=Europe/Madrid:20220521T133000
DTSTAMP:20260420T192354
CREATED:20220510T105943Z
LAST-MODIFIED:20220510T105943Z
UID:10612-1653127200-1653139800@atletismoardillas.es
SUMMARY:Jornada de Menores 34 - Trofeo Colegio Base
DESCRIPTION:Formulario \nReglamento Jornada de Menores 34 – Trofeo Colegio Base \nCategorías: Sub 10 a Sub 18 \nTransporte del Club: NO \nListado de inscritos
URL:https://atletismoardillas.es/eventos/jornada-de-menores-34-trofeo-colegio-base/
LOCATION:Polideportivo Jose Caballero (Alcobendas)\, Av. de la Transición Española\, s/n\, Alcobendas\, Madrid\, 28108
ATTACH;FMTTYPE=image/png:https://atletismoardillas.es/wp-content/uploads/2020/02/ardillas-logo.png
END:VEVENT
END:VCALENDAR