BEGIN:VCALENDAR
VERSION:2.0
PRODID:-//CLUB DE ATLETISMO LAS ARDILLAS DE EL ESCORIAL - ECPv5.5.0//NONSGML v1.0//EN
CALSCALE:GREGORIAN
METHOD:PUBLISH
X-WR-CALNAME:CLUB DE ATLETISMO LAS ARDILLAS DE EL ESCORIAL
X-ORIGINAL-URL:https://atletismoardillas.es
X-WR-CALDESC:Eventos para CLUB DE ATLETISMO LAS ARDILLAS DE EL ESCORIAL
BEGIN:VTIMEZONE
TZID:Europe/Madrid
BEGIN:DAYLIGHT
TZOFFSETFROM:+0100
TZOFFSETTO:+0200
TZNAME:CEST
DTSTART:20220327T010000
END:DAYLIGHT
BEGIN:STANDARD
TZOFFSETFROM:+0200
TZOFFSETTO:+0100
TZNAME:CET
DTSTART:20221030T010000
END:STANDARD
END:VTIMEZONE
BEGIN:VEVENT
DTSTART;TZID=Europe/Madrid:20220206T103000
DTEND;TZID=Europe/Madrid:20220206T130000
DTSTAMP:20260422T032230
CREATED:20220127T135432Z
LAST-MODIFIED:20220127T144556Z
UID:10228-1644143400-1644152400@atletismoardillas.es
SUMMARY:Jornada de Menores 8 Gallur
DESCRIPTION:Formulario \nReglamento jornadamenores_gallur_2022_02_06 \nCategorías: Sub 16 e inferiores \nTransporte del club: NO \nListado de inscritos
URL:https://atletismoardillas.es/eventos/jornada-de-menores-8-gallur/
LOCATION:Pista Cubierta Gallur\, Av. de Ángel Sanz Briz\, Madrid\, Madrid\, 28047\, España
ATTACH;FMTTYPE=image/png:https://atletismoardillas.es/wp-content/uploads/2020/02/ardillas-logo.png
END:VEVENT
END:VCALENDAR