BEGIN:VCALENDAR
VERSION:2.0
PRODID:-//CLUB DE ATLETISMO LAS ARDILLAS DE EL ESCORIAL - ECPv5.5.0//NONSGML v1.0//EN
CALSCALE:GREGORIAN
METHOD:PUBLISH
X-WR-CALNAME:CLUB DE ATLETISMO LAS ARDILLAS DE EL ESCORIAL
X-ORIGINAL-URL:https://atletismoardillas.es
X-WR-CALDESC:Eventos para CLUB DE ATLETISMO LAS ARDILLAS DE EL ESCORIAL
BEGIN:VTIMEZONE
TZID:Europe/Madrid
BEGIN:DAYLIGHT
TZOFFSETFROM:+0100
TZOFFSETTO:+0200
TZNAME:CEST
DTSTART:20250330T010000
END:DAYLIGHT
BEGIN:STANDARD
TZOFFSETFROM:+0200
TZOFFSETTO:+0100
TZNAME:CET
DTSTART:20251026T010000
END:STANDARD
END:VTIMEZONE
BEGIN:VEVENT
DTSTART;TZID=Europe/Madrid:20250118T100000
DTEND;TZID=Europe/Madrid:20250118T113000
DTSTAMP:20260420T164305
CREATED:20250108T070509Z
LAST-MODIFIED:20250108T075028Z
UID:14486-1737194400-1737199800@atletismoardillas.es
SUMMARY:Jornada de Menores 16 Vicálvaro
DESCRIPTION:Formulario \nReglamento Jornada de Menores 16 Vicálvaro \nCategorías: Sub16 e inferiores \nTransporte del Club: NO \nListado de inscritos
URL:https://atletismoardillas.es/eventos/jornada-de-menores-vicalvaro-4/
LOCATION:C.D.M. Margot Moles de Vicálvaro\, P.º Polideportivo\, 3\, 28032 Madrid\, Madrid\, Madrid\, 28032\, España
CATEGORIES:Control
ATTACH;FMTTYPE=image/png:https://atletismoardillas.es/wp-content/uploads/2020/02/ardillas-logo.png
END:VEVENT
END:VCALENDAR