BEGIN:VCALENDAR
VERSION:2.0
PRODID:-//CLUB DE ATLETISMO LAS ARDILLAS DE EL ESCORIAL - ECPv5.5.0//NONSGML v1.0//EN
CALSCALE:GREGORIAN
METHOD:PUBLISH
X-WR-CALNAME:CLUB DE ATLETISMO LAS ARDILLAS DE EL ESCORIAL
X-ORIGINAL-URL:https://atletismoardillas.es
X-WR-CALDESC:Eventos para CLUB DE ATLETISMO LAS ARDILLAS DE EL ESCORIAL
BEGIN:VTIMEZONE
TZID:Europe/Madrid
BEGIN:DAYLIGHT
TZOFFSETFROM:+0100
TZOFFSETTO:+0200
TZNAME:CEST
DTSTART:20240331T010000
END:DAYLIGHT
BEGIN:STANDARD
TZOFFSETFROM:+0200
TZOFFSETTO:+0100
TZNAME:CET
DTSTART:20241027T010000
END:STANDARD
END:VTIMEZONE
BEGIN:VEVENT
DTSTART;TZID=Europe/Madrid:20240127T100000
DTEND;TZID=Europe/Madrid:20240127T130000
DTSTAMP:20260421T102519
CREATED:20240116T114723Z
LAST-MODIFIED:20240116T114723Z
UID:12927-1706349600-1706360400@atletismoardillas.es
SUMMARY:Jornada Menores 22 Alcorcón
DESCRIPTION:Formulario \nReglamento Jornada de Menores 22 Alcorcón \nCategorías: Sub8 a Sub14 \nTransporte del Club: NO \nListado de inscritos
URL:https://atletismoardillas.es/eventos/jornada-menores-22-alcorcon/
LOCATION:Polideportivo Prado de Santo Domingo de Alcorcón\, C. Los Robles\, 21.\, Madrid\, Madrid\, 28922
CATEGORIES:Control
ATTACH;FMTTYPE=image/png:https://atletismoardillas.es/wp-content/uploads/2020/02/ardillas-logo.png
END:VEVENT
END:VCALENDAR