BEGIN:VCALENDAR
VERSION:2.0
PRODID:-//CLUB DE ATLETISMO LAS ARDILLAS DE EL ESCORIAL - ECPv5.5.0//NONSGML v1.0//EN
CALSCALE:GREGORIAN
METHOD:PUBLISH
X-WR-CALNAME:CLUB DE ATLETISMO LAS ARDILLAS DE EL ESCORIAL
X-ORIGINAL-URL:https://atletismoardillas.es
X-WR-CALDESC:Eventos para CLUB DE ATLETISMO LAS ARDILLAS DE EL ESCORIAL
BEGIN:VTIMEZONE
TZID:UTC
BEGIN:STANDARD
TZOFFSETFROM:+0000
TZOFFSETTO:+0000
TZNAME:UTC
DTSTART:20160101T000000
END:STANDARD
END:VTIMEZONE
BEGIN:VEVENT
DTSTART;TZID=UTC:20161201T180000
DTEND;TZID=UTC:20161201T200000
DTSTAMP:20260425T191733
CREATED:20161020T085906Z
LAST-MODIFIED:20161201T062653Z
UID:6326-1480615200-1480622400@atletismoardillas.es
SUMMARY:La Manguilla: 18:00 a 20:00
DESCRIPTION:
URL:https://atletismoardillas.es/eventos/la-manguilla-el-escorial-madrid-28280-espana/
LOCATION:La Manguilla\, Calle de Lepanto\, 31\, \, El Escorial\, Madrid\, 28280 \, España
CATEGORIES:Entrenamiento
ORGANIZER;CN="Club%20de%20Atletismo%20Las%20Ardillas%20de%20El%20Escorial":MAILTO:info@atletismoardillas.es
END:VEVENT
END:VCALENDAR