BEGIN:VCALENDAR
VERSION:2.0
PRODID:-//CLUB DE ATLETISMO LAS ARDILLAS DE EL ESCORIAL - ECPv5.5.0//NONSGML v1.0//EN
CALSCALE:GREGORIAN
METHOD:PUBLISH
X-WR-CALNAME:CLUB DE ATLETISMO LAS ARDILLAS DE EL ESCORIAL
X-ORIGINAL-URL:https://atletismoardillas.es
X-WR-CALDESC:Eventos para CLUB DE ATLETISMO LAS ARDILLAS DE EL ESCORIAL
BEGIN:VTIMEZONE
TZID:Europe/Madrid
BEGIN:DAYLIGHT
TZOFFSETFROM:+0100
TZOFFSETTO:+0200
TZNAME:CEST
DTSTART:20240331T010000
END:DAYLIGHT
BEGIN:STANDARD
TZOFFSETFROM:+0200
TZOFFSETTO:+0100
TZNAME:CET
DTSTART:20241027T010000
END:STANDARD
END:VTIMEZONE
BEGIN:VEVENT
DTSTART;TZID=Europe/Madrid:20241221T153000
DTEND;TZID=Europe/Madrid:20241222T183000
DTSTAMP:20260420T150758
CREATED:20241210T081806Z
LAST-MODIFIED:20241210T081806Z
UID:14396-1734795000-1734892200@atletismoardillas.es
SUMMARY:Reunión FAM 1 y 2
DESCRIPTION:Formulario \nReglamento Reunión FAM 1 y 2 \nCategorías: Sub18 y superiores \nTransporte del Club: NO \nListado de inscritos
URL:https://atletismoardillas.es/eventos/reunion-fam-1-y-2/
LOCATION:Pista Cubierta Gallur\, Av. de Ángel Sanz Briz\, Madrid\, Madrid\, 28047\, España
CATEGORIES:Control
ATTACH;FMTTYPE=image/png:https://atletismoardillas.es/wp-content/uploads/2020/02/ardillas-logo.png
END:VEVENT
END:VCALENDAR