BEGIN:VCALENDAR
VERSION:2.0
PRODID:-//CLUB DE ATLETISMO LAS ARDILLAS DE EL ESCORIAL - ECPv5.5.0//NONSGML v1.0//EN
CALSCALE:GREGORIAN
METHOD:PUBLISH
X-WR-CALNAME:CLUB DE ATLETISMO LAS ARDILLAS DE EL ESCORIAL
X-ORIGINAL-URL:https://atletismoardillas.es
X-WR-CALDESC:Eventos para CLUB DE ATLETISMO LAS ARDILLAS DE EL ESCORIAL
BEGIN:VTIMEZONE
TZID:Europe/Madrid
BEGIN:DAYLIGHT
TZOFFSETFROM:+0100
TZOFFSETTO:+0200
TZNAME:CEST
DTSTART:20250330T010000
END:DAYLIGHT
BEGIN:STANDARD
TZOFFSETFROM:+0200
TZOFFSETTO:+0100
TZNAME:CET
DTSTART:20251026T010000
END:STANDARD
END:VTIMEZONE
BEGIN:VEVENT
DTSTART;TZID=Europe/Madrid:20251213T160000
DTEND;TZID=Europe/Madrid:20251213T190000
DTSTAMP:20260420T052622
CREATED:20251201T120705Z
LAST-MODIFIED:20251201T120705Z
UID:15958-1765641600-1765652400@atletismoardillas.es
SUMMARY:Reunión FAM 7 Gallur
DESCRIPTION:Formulario \nReglamento Reunión FAM 7 Gallur \nCategorías: Sub16 e inferiores \nTransporte del Club: NO \nListado de inscritos
URL:https://atletismoardillas.es/eventos/reunion-fam-7-gallur/
LOCATION:Pista Cubierta Gallur\, Av. de Ángel Sanz Briz\, Madrid\, Madrid\, 28047\, España
CATEGORIES:Control
ATTACH;FMTTYPE=image/png:https://atletismoardillas.es/wp-content/uploads/2020/02/ardillas-logo.png
END:VEVENT
END:VCALENDAR