BEGIN:VCALENDAR
VERSION:2.0
PRODID:-//CLUB DE ATLETISMO LAS ARDILLAS DE EL ESCORIAL - ECPv5.5.0//NONSGML v1.0//EN
CALSCALE:GREGORIAN
METHOD:PUBLISH
X-WR-CALNAME:CLUB DE ATLETISMO LAS ARDILLAS DE EL ESCORIAL
X-ORIGINAL-URL:https://atletismoardillas.es
X-WR-CALDESC:Eventos para CLUB DE ATLETISMO LAS ARDILLAS DE EL ESCORIAL
BEGIN:VTIMEZONE
TZID:Europe/Madrid
BEGIN:DAYLIGHT
TZOFFSETFROM:+0100
TZOFFSETTO:+0200
TZNAME:CEST
DTSTART:20220327T010000
END:DAYLIGHT
BEGIN:STANDARD
TZOFFSETFROM:+0200
TZOFFSETTO:+0100
TZNAME:CET
DTSTART:20221030T010000
END:STANDARD
END:VTIMEZONE
BEGIN:VEVENT
DTSTART;TZID=Europe/Madrid:20220327T160000
DTEND;TZID=Europe/Madrid:20220327T193000
DTSTAMP:20260420T231104
CREATED:20220316T195747Z
LAST-MODIFIED:20220316T195747Z
UID:10439-1648396800-1648409400@atletismoardillas.es
SUMMARY:Reunión FAM Aire Libre 1
DESCRIPTION:Formulario \nReglamento Reunión FAM Aire libre 1 \nCategorías: Sub 16 y superiores \nTransporte del club: NO \nListado de inscritos
URL:https://atletismoardillas.es/eventos/reunion-fam-aire-libre-1/
LOCATION:Ciudad Deportiva Europa (Leganés)\, Av. de Alemania\, 2D\, Leganés\, Madrid\, 28916
ATTACH;FMTTYPE=image/png:https://atletismoardillas.es/wp-content/uploads/2020/02/ardillas-logo.png
END:VEVENT
END:VCALENDAR