BEGIN:VCALENDAR
VERSION:2.0
PRODID:-//CLUB DE ATLETISMO LAS ARDILLAS DE EL ESCORIAL - ECPv5.5.0//NONSGML v1.0//EN
CALSCALE:GREGORIAN
METHOD:PUBLISH
X-WR-CALNAME:CLUB DE ATLETISMO LAS ARDILLAS DE EL ESCORIAL
X-ORIGINAL-URL:https://atletismoardillas.es
X-WR-CALDESC:Eventos para CLUB DE ATLETISMO LAS ARDILLAS DE EL ESCORIAL
BEGIN:VTIMEZONE
TZID:Europe/Madrid
BEGIN:DAYLIGHT
TZOFFSETFROM:+0100
TZOFFSETTO:+0200
TZNAME:CEST
DTSTART:20230326T010000
END:DAYLIGHT
BEGIN:STANDARD
TZOFFSETFROM:+0200
TZOFFSETTO:+0100
TZNAME:CET
DTSTART:20231029T010000
END:STANDARD
END:VTIMEZONE
BEGIN:VEVENT
DTSTART;TZID=Europe/Madrid:20230715T173000
DTEND;TZID=Europe/Madrid:20230715T210000
DTSTAMP:20260421T200343
CREATED:20230704T055707Z
LAST-MODIFIED:20230704T055707Z
UID:12367-1689442200-1689454800@atletismoardillas.es
SUMMARY:Reunión FAM Aluche
DESCRIPTION:Formulario \nReglamento Reunión FAM Aluche. \nCategorías: Sub18 y superiores \nTransporte del Club: NO \nListado de inscritos
URL:https://atletismoardillas.es/eventos/reunion-fam-aluche-3/
LOCATION:Pista Atletismo C.D.M. Aluche\, Dirección: Av. de Las Águilas\, 27\, 28044 Madrid\, Madrid\, Madrid\, 20844\, España
ATTACH;FMTTYPE=image/png:https://atletismoardillas.es/wp-content/uploads/2020/02/ardillas-logo.png
END:VEVENT
END:VCALENDAR