BEGIN:VCALENDAR
VERSION:2.0
PRODID:-//CLUB DE ATLETISMO LAS ARDILLAS DE EL ESCORIAL - ECPv5.5.0//NONSGML v1.0//EN
CALSCALE:GREGORIAN
METHOD:PUBLISH
X-WR-CALNAME:CLUB DE ATLETISMO LAS ARDILLAS DE EL ESCORIAL
X-ORIGINAL-URL:https://atletismoardillas.es
X-WR-CALDESC:Eventos para CLUB DE ATLETISMO LAS ARDILLAS DE EL ESCORIAL
BEGIN:VTIMEZONE
TZID:Europe/Madrid
BEGIN:DAYLIGHT
TZOFFSETFROM:+0100
TZOFFSETTO:+0200
TZNAME:CEST
DTSTART:20250330T010000
END:DAYLIGHT
BEGIN:STANDARD
TZOFFSETFROM:+0200
TZOFFSETTO:+0100
TZNAME:CET
DTSTART:20251026T010000
END:STANDARD
END:VTIMEZONE
BEGIN:VEVENT
DTSTART;TZID=Europe/Madrid:20250531T180000
DTEND;TZID=Europe/Madrid:20250531T210000
DTSTAMP:20260420T054548
CREATED:20250519T103450Z
LAST-MODIFIED:20250519T103450Z
UID:15216-1748714400-1748725200@atletismoardillas.es
SUMMARY:Trofeo Ciudad de Fuenlabrada
DESCRIPTION:Formulario \nReglamento Trofeo Ciudad de Fuenlabrada \nCategorías: Sub18 y superiores \nTransporte del Club: NO \nListado de inscritos
URL:https://atletismoardillas.es/eventos/trofeo-ciudad-de-fuenlabrada-3/
LOCATION:Fuenlabrada Fermín Cacho\, Cam. Bajo de Getafe\, 2\, Fuenlabrada\, Madrid\, 28946\, España
CATEGORIES:Competición
ATTACH;FMTTYPE=image/png:https://atletismoardillas.es/wp-content/uploads/2020/02/ardillas-logo.png
END:VEVENT
END:VCALENDAR